BEGIN:VCALENDAR
VERSION:2.0
PRODID:-//Ontario Grudge Wars - ECPv6.5.0//NONSGML v1.0//EN
CALSCALE:GREGORIAN
METHOD:PUBLISH
X-WR-CALNAME:Ontario Grudge Wars
X-ORIGINAL-URL:https://ontariogrudgewars.com
X-WR-CALDESC:Events for Ontario Grudge Wars
REFRESH-INTERVAL;VALUE=DURATION:PT1H
X-Robots-Tag:noindex
X-PUBLISHED-TTL:PT1H
BEGIN:VTIMEZONE
TZID:UTC
BEGIN:STANDARD
TZOFFSETFROM:+0000
TZOFFSETTO:+0000
TZNAME:UTC
DTSTART:20180101T000000
END:STANDARD
END:VTIMEZONE
BEGIN:VEVENT
DTSTART;TZID=UTC:20181102T080000
DTEND;TZID=UTC:20181102T170000
DTSTAMP:20260422T205409
CREATED:20181102T210132Z
LAST-MODIFIED:20181102T210132Z
UID:6959-1541145600-1541178000@ontariogrudgewars.com
SUMMARY:Toronto Motorsports Park
DESCRIPTION:
URL:https://ontariogrudgewars.com/event/toronto-motorsports-park/
LOCATION:Toronto Motorsports Park\, 1040 Kohler Rd\, Cayuga\, Ontario\, N0A 1E0\, Canada
END:VEVENT
END:VCALENDAR